View In:
ArcGIS JavaScript
ArcGIS Online Map Viewer
ArcGIS Earth
ArcGIS Pro
Service Description: <DIV STYLE="text-align:Left;"><DIV><DIV><P><SPAN>Contours 2022, which includes 2 feet and 5 feet</SPAN></P></DIV></DIV></DIV>
Map Name: Contour2022
Legend
All Layers and Tables
Dynamic Legend
Dynamic All Layers
Layers:
Description: <DIV STYLE="text-align:Left;"><DIV><DIV><P><SPAN>Contours 2022, which includes 2 feet and 5 feet</SPAN></P></DIV></DIV></DIV>
Copyright Text: City of Arlington, TX
Spatial Reference:
102100
(3857)
LatestVCSWkid(0)
Single Fused Map Cache: true
Tile Info:
- Height: 256.0
- Width: 256.0
- DPI: 96.0
-
Levels of Detail: 24
-
Level ID: 1
[ Start Tile, End Tile ]
- Resolution: 78271.5169639999
- Scale: 2.95828763795777E8
-
Level ID: 2
[ Start Tile, End Tile ]
- Resolution: 39135.7584820001
- Scale: 1.47914381897889E8
-
Level ID: 3
[ Start Tile, End Tile ]
- Resolution: 19567.8792409999
- Scale: 7.3957190948944E7
-
Level ID: 4
[ Start Tile, End Tile ]
- Resolution: 9783.93962049996
- Scale: 3.6978595474472E7
-
Level ID: 5
[ Start Tile, End Tile ]
- Resolution: 4891.96981024998
- Scale: 1.8489297737236E7
- Format: PNG
- Compression Quality: 0.0
- Origin: X: -2.0037508342787E7
Y: 2.0037508342787E7
- Spatial Reference: 102100
(3857)
LatestVCSWkid(0)
Storage Info:
- Storage Format: esriMapCacheStorageModeCompactV2
- Packet Size: 128
Initial Extent:
XMin: -1.0807557006066516E7
YMin: 3859297.479604421
XMax: -1.0806241553075353E7
YMax: 3860396.512825748
Spatial Reference: 102100
(0)
LatestVCSWkid(0)
Full Extent:
XMin: -1.082636942791003E7
YMin: 3839285.029523468
XMax: -1.0800980557498954E7
YMax: 3872331.7543833707
Spatial Reference: 102100
(0)
LatestVCSWkid(0)
Units: esriMeters
Supported Image Format Types: PNG32,PNG24,PNG,JPG,DIB,TIFF,EMF,PS,PDF,GIF,SVG,SVGZ,BMP
Document Info:
Title: Contours 2022
Author:
Comments: <DIV STYLE="text-align:Left;"><DIV><DIV><P><SPAN>Contours 2022, which includes 2 feet and 5 feet</SPAN></P></DIV></DIV></DIV>
Subject: Contours 2022, which includes 2 feet and 5 feet
Category:
Keywords: Contours,2022
AntialiasingMode: Fast
TextAntialiasingMode: Force
Supports Dynamic Layers: true
MaxRecordCount: 2000
MaxSelectionCount: 2000
MaxImageHeight: 4096
MaxImageWidth: 4096
Supported Query Formats: JSON, geoJSON, PBF
Supports Query Data Elements: true
Min Scale: 9027.977411
Max Scale: 564.248588
Supports Datum Transformation: true
Child Resources:
Info
Dynamic Layer
Supported Operations:
Export Map
Identify
QueryLegends
QueryDomains
Find
Return Updates