View In:
ArcGIS JavaScript
ArcGIS Online Map Viewer
ArcGIS Earth
ArcGIS Pro
Service Description: <div style='text-align:Left;'><div><div><div style='font-size:12pt'><p><span>Nearmap imagery taken in January 2025; in WGS_1984_Web_Mercator_Auxiliary_Sphere WKID: 3857</span></p></div></div></div></div>
Map Name: 2025_Orthos
Legend
All Layers and Tables
Dynamic Legend
Dynamic All Layers
Layers:
Description: Nearmap imagery taken in January 2025; in WGS_1984_Web_Mercator_Auxiliary_Sphere WKID: 3857
Copyright Text: City of Arlington Texas
Spatial Reference:
102100
(3857)
LatestVCSWkid(0)
Single Fused Map Cache: true
Tile Info:
- Height: 256.0
- Width: 256.0
- DPI: 96.0
-
Levels of Detail: 24
-
Level ID: 1
[ Start Tile, End Tile ]
- Resolution: 78271.5169639999
- Scale: 2.95828763795777E8
-
Level ID: 2
[ Start Tile, End Tile ]
- Resolution: 39135.7584820001
- Scale: 1.47914381897889E8
-
Level ID: 3
[ Start Tile, End Tile ]
- Resolution: 19567.8792409999
- Scale: 7.3957190948944E7
-
Level ID: 4
[ Start Tile, End Tile ]
- Resolution: 9783.93962049996
- Scale: 3.6978595474472E7
-
Level ID: 5
[ Start Tile, End Tile ]
- Resolution: 4891.96981024998
- Scale: 1.8489297737236E7
- Format: Mixed
- Compression Quality: 75.0
- Origin: X: -2.0037508342787E7
Y: 2.0037508342787E7
- Spatial Reference: 102100
(3857)
LatestVCSWkid(0)
Storage Info:
- Storage Format: esriMapCacheStorageModeCompactV2
- Packet Size: 128
Initial Extent:
XMin: -1.0844942505892035E7
YMin: 3829096.869354755
XMax: -1.0781395125290643E7
YMax: 3883461.487104845
Spatial Reference: 102100
(0)
LatestVCSWkid(0)
Full Extent:
XMin: -1.0824399873927701E7
YMin: 3840515.9644369404
XMax: -1.080201640285284E7
YMax: 3871256.1250995407
Spatial Reference: 102100
(0)
LatestVCSWkid(0)
Units: esriMeters
Supported Image Format Types: PNG32,PNG24,PNG,JPG,DIB,TIFF,EMF,PS,PDF,GIF,SVG,SVGZ,BMP
Document Info:
Title: 2025 Orthos
Author:
Comments: Nearmap imagery taken in January 2025; in WGS_1984_Web_Mercator_Auxiliary_Sphere WKID: 3857
Subject: Nearmap Imagery, Januray 2025
Category:
Keywords: Arlington,Texas,2025,Orthos,Nearmap,BaseMap
AntialiasingMode: Fast
TextAntialiasingMode: Force
Supports Dynamic Layers: true
MaxRecordCount: 2000
MaxSelectionCount: 2000
MaxImageHeight: 4096
MaxImageWidth: 4096
Supported Query Formats: JSON, geoJSON, PBF
Supports Query Data Elements: true
Min Scale: 288895.277144
Max Scale: 282.124294
Supports Datum Transformation: true
Child Resources:
Info
Dynamic Layer
Supported Operations:
Export Map
Identify
QueryLegends
QueryDomains
Find
Return Updates